BEGIN:VCALENDAR
VERSION:2.0
PRODID:-//eventon.com NONSGML v1.0//EN
CALSCALE:GREGORIAN
METHOD:PUBLISH
BEGIN:VEVENT
UID:69e74be76b7b4
DTSTAMP:20260421T100527Z
DTSTART:20260919T080000Z
DTEND:20260919T150000Z
LOCATION:
SUMMARY:Najaarsmarkt Uithuizen
DESCRIPTION:De Najaarsmarkt in Uithuizen is een jaarlijks evenement in het 
 centrum\,  met kramen\,  acts en activiteiten voor alle leeftijden. Bezoeke
 rs kunnen genieten van lokale producten\,  livemuziek en kinderentertainmen
 t. De toegang is gratis. Wat is er te doen? Markt met diverse kramen: lokal
 e producten\,  lekkernijen\,  kleding\,  woonaccessoires en meer Straatthea
 ter en[..]\nhttps://actiefuithuizen.nl/events/najaarsmarkt-uithuizen/
URL:https://actiefuithuizen.nl/events/najaarsmarkt-uithuizen/
END:VEVENT
END:VCALENDAR