BEGIN:VCALENDAR
VERSION:2.0
PRODID:-//eventon.com NONSGML v1.0//EN
CALSCALE:GREGORIAN
METHOD:PUBLISH
BEGIN:VEVENT
UID:69e74bd95c7dd
DTSTAMP:20260421T100513Z
DTSTART:20260605T220000Z
DTEND:20260605T220000Z
LOCATION:
SUMMARY:Voorjaarsmarkt Uithuizen
DESCRIPTION:De Voorjaarsmarkt in Uithuizen is een jaarlijks evenement in he
 t centrum\,  met kramen\,  acts en activiteiten voor alle leeftijden. Bezoe
 kers kunnen genieten van lokale producten\,  livemuziek en kinderentertainm
 ent. De toegang is gratis. Wat is er te doen? Markt met diverse kramen: lok
 ale producten\,  lekkernijen\,  kleding\,  woonaccessoires en meer Straatth
 eater en[..]\nhttps://actiefuithuizen.nl/events/voorjaarsmarkt-uithuizen/
URL:https://actiefuithuizen.nl/events/voorjaarsmarkt-uithuizen/
END:VEVENT
END:VCALENDAR